BEGIN:VCALENDAR
VERSION:2.0
PRODID:-//Minotaur - ECPv6.15.20//NONSGML v1.0//EN
CALSCALE:GREGORIAN
METHOD:PUBLISH
X-WR-CALNAME:Minotaur
X-ORIGINAL-URL:https://minotaurgifts.com
X-WR-CALDESC:Events for Minotaur
REFRESH-INTERVAL;VALUE=DURATION:PT1H
X-Robots-Tag:noindex
X-PUBLISHED-TTL:PT1H
BEGIN:VTIMEZONE
TZID:America/Halifax
BEGIN:DAYLIGHT
TZOFFSETFROM:-0400
TZOFFSETTO:-0300
TZNAME:ADT
DTSTART:20220313T060000
END:DAYLIGHT
BEGIN:STANDARD
TZOFFSETFROM:-0300
TZOFFSETTO:-0400
TZNAME:AST
DTSTART:20221106T050000
END:STANDARD
BEGIN:DAYLIGHT
TZOFFSETFROM:-0400
TZOFFSETTO:-0300
TZNAME:ADT
DTSTART:20230312T060000
END:DAYLIGHT
BEGIN:STANDARD
TZOFFSETFROM:-0300
TZOFFSETTO:-0400
TZNAME:AST
DTSTART:20231105T050000
END:STANDARD
BEGIN:DAYLIGHT
TZOFFSETFROM:-0400
TZOFFSETTO:-0300
TZNAME:ADT
DTSTART:20240310T060000
END:DAYLIGHT
BEGIN:STANDARD
TZOFFSETFROM:-0300
TZOFFSETTO:-0400
TZNAME:AST
DTSTART:20241103T050000
END:STANDARD
END:VTIMEZONE
BEGIN:VEVENT
DTSTART;VALUE=DATE:20230929
DTEND;VALUE=DATE:20231103
DTSTAMP:20260424T063609
CREATED:20230816T230658Z
LAST-MODIFIED:20230906T183912Z
UID:1520-1695945600-1698969599@minotaurgifts.com
SUMMARY:MUTATION Group Art Show
DESCRIPTION:Please read carefully before submitting!\n\nSubmission Deadline: Fill out our online form (or call in) before 9pm\,  Thursday September 21st. \nWhat’s Accepted: \n\nAny original artwork fitting the theme “Mutation”\, as interpreted by you.\nOne piece per artist (and up to 10 prints 8.5″x11″ or smaller\, see below)\nMinotaur reserves the right to refuse any piece. Dropping off a piece does not guarantee it will be included.\nNot sure if your piece is a good fit? E-mail us a photo at info@minotaurgifts.com\n\nTerms & Conditions: \n\nPieces must arrive “Ready to Hang” – We won’t add hardware or alter your piece in order to hang it\nIf an item is for sale\, 60% of the sale price goes to the artist. We cannot guarantee a piece will sell\nArtist is responsible for dropping off their piece before the deadline\nAll pieces will remain on display until Thursday November 2nd\nUnsold work must be picked up by 7pm\, Thursday November 9th\nIf your piece is especially delicate\, large\, or has special storage needs\, please call 613.545.2308 weekdays before dropping it off\nAny prints offered for sale must be of a reasonably high quality. Prints must be 8.5″x11″ or smaller. Please contact us for guidance\nWhile we will handle your work with the utmost care\, Minotaur cannot be held responsible for stolen or damaged work\n\nReady to submit?\nSUBMIT ONLINE HERE before dropping off your piece\nAfter submitting\, please also e-mail us a photo of your piece if you can! \n________________________ \nOpening Reception\, a part of Downtown Kingston’s Art After Dark! \nFriday September 29th – 7-10pm \n________________________ \nQuestions?\nThe best way to reach us is by phone or e-mail on weekdays \n\n613.545.2308\ninfo@minotaurgifts.com
URL:https://minotaurgifts.com/event/mutation-group-art-show/
LOCATION:Minotaur Games & Gifts\, 78 Princess St.\, Kingston\, Ontario\, K7L1A5\, Canada
ORGANIZER;CN="Minotaur Games & Gifts":MAILTO:info@minotaurgifts.com
END:VEVENT
END:VCALENDAR