BEGIN:VCALENDAR
VERSION:2.0
PRODID:-//Minotaur - ECPv6.15.20//NONSGML v1.0//EN
CALSCALE:GREGORIAN
METHOD:PUBLISH
X-ORIGINAL-URL:https://minotaurgifts.com
X-WR-CALDESC:Events for Minotaur
REFRESH-INTERVAL;VALUE=DURATION:PT1H
X-Robots-Tag:noindex
X-PUBLISHED-TTL:PT1H
BEGIN:VTIMEZONE
TZID:America/Halifax
BEGIN:DAYLIGHT
TZOFFSETFROM:-0400
TZOFFSETTO:-0300
TZNAME:ADT
DTSTART:20230312T060000
END:DAYLIGHT
BEGIN:STANDARD
TZOFFSETFROM:-0300
TZOFFSETTO:-0400
TZNAME:AST
DTSTART:20231105T050000
END:STANDARD
BEGIN:DAYLIGHT
TZOFFSETFROM:-0400
TZOFFSETTO:-0300
TZNAME:ADT
DTSTART:20240310T060000
END:DAYLIGHT
BEGIN:STANDARD
TZOFFSETFROM:-0300
TZOFFSETTO:-0400
TZNAME:AST
DTSTART:20241103T050000
END:STANDARD
BEGIN:DAYLIGHT
TZOFFSETFROM:-0400
TZOFFSETTO:-0300
TZNAME:ADT
DTSTART:20250309T060000
END:DAYLIGHT
BEGIN:STANDARD
TZOFFSETFROM:-0300
TZOFFSETTO:-0400
TZNAME:AST
DTSTART:20251102T050000
END:STANDARD
END:VTIMEZONE
BEGIN:VEVENT
DTSTART;VALUE=DATE:20240927
DTEND;VALUE=DATE:20241109
DTSTAMP:20260423T200824
CREATED:20240819T144041Z
LAST-MODIFIED:20240819T144041Z
UID:1622-1727395200-1731110399@minotaurgifts.com
SUMMARY:FIRE Group Art Show
DESCRIPTION:Please read carefully before submitting!\n\nSubmission Deadline: Fill out our online form AND drop off your piece at the store before 7pm\, Sunday September 22\n \nWhat’s Accepted: \n\nAny original artwork fitting the theme “FIRE”\, as interpreted by you.\nOne piece per artist (and up to 10 prints of the same piece\, see below***)\nMinotaur reserves the right to refuse any piece. Dropping off a piece does not guarantee it will be included.\nIf you are able\, please send a large size photo of your piece to info@minotaurgifts.com\n\nTerms & Conditions: \n\nPieces must arrive “Ready to Hang” – We won’t add hardware or alter your piece in order to hang it\nIf an item is for sale\, 60% of the sale price goes to the artist. We cannot guarantee a piece will sell\nArtist is responsible for dropping off their piece before the deadline\nAll pieces will remain on display until Sunday November 3\nUnsold work must be picked up by 7pm\, Sunday November 10\nIf your piece is especially delicate\, large\, or has special storage needs\, please call 613.545.2308 weekdays before dropping it off\n***Any prints offered for sale must be of a reasonably high quality. Prints must be 8.5″x11″ or smaller and depict the same artwork as the submitted original. Please contact us for guidance if this is your first time submitting prints.\nWhile we will handle your work with the utmost care\, Minotaur cannot be held responsible for stolen or damaged work\n\nReady to submit?\nHERE IS THE ONLINE FORM (You can also fill out a paper form in store)\nIn the mean time\, please e-mail us a photo of your piece in advance any time. \n________________________ \nOpening Reception\, a part of Downtown Kingston’s Art After Dark! \nFriday September 27th – 7-10pm \n________________________ \nQuestions?\nThe best way to reach us is by phone or e-mail on weekdays \n\n613.545.2308\ninfo@minotaurgifts.com
URL:https://minotaurgifts.com/event/fire-group-art-show/
LOCATION:Minotaur Games & Gifts\, 78 Princess St.\, Kingston\, Ontario\, K7L1A5\, Canada
ORGANIZER;CN="Minotaur Games & Gifts":MAILTO:info@minotaurgifts.com
END:VEVENT
END:VCALENDAR