BEGIN:VCALENDAR
VERSION:2.0
PRODID:-//Minotaur - ECPv6.15.20//NONSGML v1.0//EN
CALSCALE:GREGORIAN
METHOD:PUBLISH
X-WR-CALNAME:Minotaur
X-ORIGINAL-URL:https://minotaurgifts.com
X-WR-CALDESC:Events for Minotaur
REFRESH-INTERVAL;VALUE=DURATION:PT1H
X-Robots-Tag:noindex
X-PUBLISHED-TTL:PT1H
BEGIN:VTIMEZONE
TZID:America/Halifax
BEGIN:DAYLIGHT
TZOFFSETFROM:-0400
TZOFFSETTO:-0300
TZNAME:ADT
DTSTART:20250309T060000
END:DAYLIGHT
BEGIN:STANDARD
TZOFFSETFROM:-0300
TZOFFSETTO:-0400
TZNAME:AST
DTSTART:20251102T050000
END:STANDARD
BEGIN:DAYLIGHT
TZOFFSETFROM:-0400
TZOFFSETTO:-0300
TZNAME:ADT
DTSTART:20260308T060000
END:DAYLIGHT
BEGIN:STANDARD
TZOFFSETFROM:-0300
TZOFFSETTO:-0400
TZNAME:AST
DTSTART:20261101T050000
END:STANDARD
BEGIN:DAYLIGHT
TZOFFSETFROM:-0400
TZOFFSETTO:-0300
TZNAME:ADT
DTSTART:20270314T060000
END:DAYLIGHT
BEGIN:STANDARD
TZOFFSETFROM:-0300
TZOFFSETTO:-0400
TZNAME:AST
DTSTART:20271107T050000
END:STANDARD
END:VTIMEZONE
BEGIN:VEVENT
DTSTART;VALUE=DATE:20260417
DTEND;VALUE=DATE:20260501
DTSTAMP:20260423T154624
CREATED:20260408T234210Z
LAST-MODIFIED:20260408T234426Z
UID:1677-1776384000-1777593599@minotaurgifts.com
SUMMARY:Ravensburger Puzzle Days
DESCRIPTION:You’re invited to join us for Ravensburger Puzzle Days\, coming soon April 17 to 30th! \nHere’s the scoop… \n– All Ravensburger Jigsaw Puzzles will be 25% off\n– Each Ravensburger puzzle purchase earns you a ballot for one of our weekly prize draws\n– Cozy up to one of our sample puzzles at our in-store Puzzle Zone!\n– Complete a small puzzle or help work on a large puzzle to earn an additional prize ballot! \nLooking forward to some quality indoor puzzle time with friends and family on these rainy springtime afternoons. See you then\, Kingston!
URL:https://minotaurgifts.com/event/ravensburger-puzzle-days/
LOCATION:Minotaur Games & Gifts\, 78 Princess St.\, Kingston\, Ontario\, K7L1A5\, Canada
ORGANIZER;CN="Minotaur Games & Gifts":MAILTO:info@minotaurgifts.com
END:VEVENT
END:VCALENDAR