BEGIN:VCALENDAR
VERSION:2.0
PRODID:-//Minotaur - ECPv6.15.20//NONSGML v1.0//EN
CALSCALE:GREGORIAN
METHOD:PUBLISH
X-WR-CALNAME:Minotaur
X-ORIGINAL-URL:https://minotaurgifts.com
X-WR-CALDESC:Events for Minotaur
REFRESH-INTERVAL;VALUE=DURATION:PT1H
X-Robots-Tag:noindex
X-PUBLISHED-TTL:PT1H
BEGIN:VTIMEZONE
TZID:America/Halifax
BEGIN:DAYLIGHT
TZOFFSETFROM:-0400
TZOFFSETTO:-0300
TZNAME:ADT
DTSTART:20200308T060000
END:DAYLIGHT
BEGIN:STANDARD
TZOFFSETFROM:-0300
TZOFFSETTO:-0400
TZNAME:AST
DTSTART:20201101T050000
END:STANDARD
BEGIN:DAYLIGHT
TZOFFSETFROM:-0400
TZOFFSETTO:-0300
TZNAME:ADT
DTSTART:20210314T060000
END:DAYLIGHT
BEGIN:STANDARD
TZOFFSETFROM:-0300
TZOFFSETTO:-0400
TZNAME:AST
DTSTART:20211107T050000
END:STANDARD
BEGIN:DAYLIGHT
TZOFFSETFROM:-0400
TZOFFSETTO:-0300
TZNAME:ADT
DTSTART:20220313T060000
END:DAYLIGHT
BEGIN:STANDARD
TZOFFSETFROM:-0300
TZOFFSETTO:-0400
TZNAME:AST
DTSTART:20221106T050000
END:STANDARD
BEGIN:DAYLIGHT
TZOFFSETFROM:-0400
TZOFFSETTO:-0300
TZNAME:ADT
DTSTART:20230312T060000
END:DAYLIGHT
BEGIN:STANDARD
TZOFFSETFROM:-0300
TZOFFSETTO:-0400
TZNAME:AST
DTSTART:20231105T050000
END:STANDARD
BEGIN:DAYLIGHT
TZOFFSETFROM:-0400
TZOFFSETTO:-0300
TZNAME:ADT
DTSTART:20240310T060000
END:DAYLIGHT
BEGIN:STANDARD
TZOFFSETFROM:-0300
TZOFFSETTO:-0400
TZNAME:AST
DTSTART:20241103T050000
END:STANDARD
BEGIN:DAYLIGHT
TZOFFSETFROM:-0400
TZOFFSETTO:-0300
TZNAME:ADT
DTSTART:20250309T060000
END:DAYLIGHT
BEGIN:STANDARD
TZOFFSETFROM:-0300
TZOFFSETTO:-0400
TZNAME:AST
DTSTART:20251102T050000
END:STANDARD
END:VTIMEZONE
BEGIN:VEVENT
DTSTART;TZID=America/Halifax:20240324T130000
DTEND;TZID=America/Halifax:20240324T160000
DTSTAMP:20260423T190957
CREATED:20240319T204953Z
LAST-MODIFIED:20240327T144723Z
UID:1594-1711285200-1711296000@minotaurgifts.com
SUMMARY:Ravensburger Puzzle Race @ DAFT
DESCRIPTION:Our first Ravensburger Puzzle Race at Daft was an incredible time! Congrats to our three winning teams! We’re busy working on the next one.\n\nScroll to the bottom of the page if you’d like to sign up to be notified of the next one\, whenever that may be!\n  \n\n\n\n\nSign up here to be notified of the next Minotaur Puzzle Race event!\n* indicates required\nEmail Address *\nFirst Name \nLast Name \n\nEmail Format  \n\nhtml\ntext\n\n\n\n\n\n\n/* real people should not fill this in and expect good things – do not remove this or risk form bot signups */
URL:https://minotaurgifts.com/event/ravensburger-puzzle-race-daft/
LOCATION:Daft Brewing\, 768 Princess Street\, Kingston\, Ontario\, K7L 1G3\, Canada
ORGANIZER;CN="Minotaur Games & Gifts":MAILTO:info@minotaurgifts.com
END:VEVENT
BEGIN:VEVENT
DTSTART;VALUE=DATE:20240311
DTEND;VALUE=DATE:20240521
DTSTAMP:20260423T190957
CREATED:20240311T183749Z
LAST-MODIFIED:20240327T154341Z
UID:1583-1710115200-1716249599@minotaurgifts.com
SUMMARY:MOON Group Art Show
DESCRIPTION:Please read carefully before submitting!\n\nSubmission Deadline: Fill out our online form AND drop off your piece at the store before 7pm\, Sunday March 31st \nWhat’s Accepted: \n\nAny original artwork fitting the theme “MOON”\, as interpreted by you.\nOne piece per artist (and up to 10 prints 8.5″x11″ or smaller\, see below***)\nMinotaur reserves the right to refuse any piece. Dropping off a piece does not guarantee it will be included.\nHelp us make sure your piece is a good fit! Please e-mail us a photo at info@minotaurgifts.com\n\nTerms & Conditions: \n\nPieces must arrive “Ready to Hang” – We won’t add hardware or alter your piece in order to hang it\nIf an item is for sale\, 60% of the sale price goes to the artist. We cannot guarantee a piece will sell\nArtist is responsible for dropping off their piece before the deadline\nAll pieces will remain on display until Monday May 20th\nUnsold work must be picked up by 7pm\, Sunday May 26th\nIf your piece is especially delicate\, large\, or has special storage needs\, please call 613.545.2308 weekdays before dropping it off\n***Any prints offered for sale must be of a reasonably high quality. Prints must be 8.5″x11″ or smaller and depict the same artwork as the submitted original. Please contact us for guidance if this is your first time submitting prints.\nWhile we will handle your work with the utmost care\, Minotaur cannot be held responsible for stolen or damaged work\n\nReady to submit?\nHERE IS THE ONLINE FORM (You can also fill out a paper form in store)\nIn the mean time\, please e-mail us a photo of your piece in advance any time. \n________________________ \nOpening Reception\, a part of Downtown Kingston’s Art After Dark! \nFriday April 5th – 7-10pm \n________________________ \nQuestions?\nThe best way to reach us is by phone or e-mail on weekdays \n\n613.545.2308\ninfo@minotaurgifts.com
URL:https://minotaurgifts.com/event/moon-group-art-show/
LOCATION:Minotaur Games & Gifts\, 78 Princess St.\, Kingston\, Ontario\, K7L1A5\, Canada
ORGANIZER;CN="Minotaur Games & Gifts":MAILTO:info@minotaurgifts.com
END:VEVENT
BEGIN:VEVENT
DTSTART;VALUE=DATE:20230929
DTEND;VALUE=DATE:20231103
DTSTAMP:20260423T190957
CREATED:20230816T230658Z
LAST-MODIFIED:20230906T183912Z
UID:1520-1695945600-1698969599@minotaurgifts.com
SUMMARY:MUTATION Group Art Show
DESCRIPTION:Please read carefully before submitting!\n\nSubmission Deadline: Fill out our online form (or call in) before 9pm\,  Thursday September 21st. \nWhat’s Accepted: \n\nAny original artwork fitting the theme “Mutation”\, as interpreted by you.\nOne piece per artist (and up to 10 prints 8.5″x11″ or smaller\, see below)\nMinotaur reserves the right to refuse any piece. Dropping off a piece does not guarantee it will be included.\nNot sure if your piece is a good fit? E-mail us a photo at info@minotaurgifts.com\n\nTerms & Conditions: \n\nPieces must arrive “Ready to Hang” – We won’t add hardware or alter your piece in order to hang it\nIf an item is for sale\, 60% of the sale price goes to the artist. We cannot guarantee a piece will sell\nArtist is responsible for dropping off their piece before the deadline\nAll pieces will remain on display until Thursday November 2nd\nUnsold work must be picked up by 7pm\, Thursday November 9th\nIf your piece is especially delicate\, large\, or has special storage needs\, please call 613.545.2308 weekdays before dropping it off\nAny prints offered for sale must be of a reasonably high quality. Prints must be 8.5″x11″ or smaller. Please contact us for guidance\nWhile we will handle your work with the utmost care\, Minotaur cannot be held responsible for stolen or damaged work\n\nReady to submit?\nSUBMIT ONLINE HERE before dropping off your piece\nAfter submitting\, please also e-mail us a photo of your piece if you can! \n________________________ \nOpening Reception\, a part of Downtown Kingston’s Art After Dark! \nFriday September 29th – 7-10pm \n________________________ \nQuestions?\nThe best way to reach us is by phone or e-mail on weekdays \n\n613.545.2308\ninfo@minotaurgifts.com
URL:https://minotaurgifts.com/event/mutation-group-art-show/
LOCATION:Minotaur Games & Gifts\, 78 Princess St.\, Kingston\, Ontario\, K7L1A5\, Canada
ORGANIZER;CN="Minotaur Games & Gifts":MAILTO:info@minotaurgifts.com
END:VEVENT
BEGIN:VEVENT
DTSTART;VALUE=DATE:20230303
DTEND;VALUE=DATE:20230527
DTSTAMP:20260423T190957
CREATED:20230303T205606Z
LAST-MODIFIED:20230422T160923Z
UID:1424-1677801600-1685145599@minotaurgifts.com
SUMMARY:Call to Artists: FORAGE Group Art Show!
DESCRIPTION:Please read carefully before submitting!\n\nSubmission Deadline: 5pm\,  Sunday May 21st. No exceptions. \nWhat’s Accepted: \n\nAny original artwork fitting the theme “Forage”\, as interpreted by you.\nOne piece per artist (and up to 10 prints\, see below)\nMinotaur reserves the right to refuse any piece. Dropping off a piece does not guarantee it will be included.\nUnsure if your piece is a good fit? E-mail us a photo at info@minotaurgifts.com\n\nTerms & Conditions: \n\nPieces must arrive “Ready to Hang” – We won’t add hardware or alter your piece in order to hang it.\nIf an item is for sale\, 60% of the sale price goes to the artist. We cannot guarantee a piece will sell.\nArtist is responsible for dropping off their piece before 5pm\, Sunday May 21st. No exceptions.\nAll pieces will remain on display until Monday July 3rd.\nUnsold work must be picked up by 5pm\, Sunday July 9th.\nIf your piece is especially delicate\, large\, or has special storage needs\, please call 613.545.2308 weekdays before dropping it off.\nAny prints offered for sale must be of a reasonably high quality. Please contact us for guidance.\nWhile we will handle your work with the utmost care\, Minotaur cannot be held responsible for stolen or damaged work.\n\nReady to submit?\nSUBMIT ONLINE HERE before dropping off your piece\nAfter submitting\, please also e-mail us a photo of your piece if you can! \n________________________ \nOpening Reception\, a part of Downtown Kingston’s Art After Dark! \nFriday May 26th\, 2023 – 7-10pm \n________________________ \nQuestions?\nThe best way to reach us is by phone or e-mail on weekdays \n\n613.545.2308\ninfo@minotaurgifts.com
URL:https://minotaurgifts.com/event/forage-group-art-show/
LOCATION:Minotaur Games & Gifts\, 78 Princess St.\, Kingston\, Ontario\, K7L1A5\, Canada
ORGANIZER;CN="Minotaur Games & Gifts":MAILTO:info@minotaurgifts.com
END:VEVENT
BEGIN:VEVENT
DTSTART;VALUE=DATE:20220923
DTEND;VALUE=DATE:20221101
DTSTAMP:20260423T190957
CREATED:20220808T170103Z
LAST-MODIFIED:20220824T162342Z
UID:1236-1663891200-1667260799@minotaurgifts.com
SUMMARY:"MIDNIGHT" Group Art Show
DESCRIPTION:Please read carefully before submitting!\n\nSubmission Deadline: 5pm\, Sunday September 18th. No exceptions. \nWhat’s Accepted: \n\nAny original artwork fitting the theme Midnight\, as interpreted by you.\nOne piece (plus up to ten identical prints) per artist. No exceptions.\nArtists of all ages and abilities are invited to submit.\n\nTerms & Conditions: \n\nPieces must arrive “Ready to Hang” – We won’t add hardware or alter your piece in order to hang it.\nIf an item is for sale\, 60% of the sale price goes to the artist.\nUp to ten prints of your original piece may be included for sale alongside your work.\nArtist is responsible for dropping off their piece before 5pm\, Sunday September 18th. No exceptions.\nAll pieces will remain on display until Monday October 31st.\nUnsold work must be picked up by 5pm\, Sunday November 6th.\nWe will do our best to accommodate everyone\, but Minotaur reserves the right to refuse any piece.\nIf your piece is especially delicate\, large\, or has special storage needs\, please call 613.545.2308 weekdays before dropping off your piece.\nWhile we will handle your work with the utmost care\, Minotaur cannot be held responsible for any stolen or damaged work.\n\nReady to submit?\nSUBMIT ONLINE HERE before dropping off your piece\nIf possible\, please also e-mail us a photo of your piece. \n________________________ \nOpening Reception\, a part of Downtown Kingston’s Art After Dark! \nFriday September 23rd\, 2022 – 7-10pm \n________________________ \nQuestions?\nThe best way to reach us is by phone or e-mail \n\n613.545.2308\ninfo@minotaurgifts.com
URL:https://minotaurgifts.com/event/midnight/
LOCATION:Minotaur Games & Gifts\, 78 Princess St.\, Kingston\, Ontario\, K7L1A5\, Canada
ORGANIZER;CN="Minotaur Games & Gifts":MAILTO:info@minotaurgifts.com
END:VEVENT
BEGIN:VEVENT
DTSTART;TZID=America/Halifax:20220527T100000
DTEND;TZID=America/Halifax:20220624T180000
DTSTAMP:20260423T190957
CREATED:20220422T182659Z
LAST-MODIFIED:20220603T150004Z
UID:1135-1653645600-1656093600@minotaurgifts.com
SUMMARY:ODDITIES Group Art Show
DESCRIPTION:Call for Submissions\nWhat’s Accepted: \nAny original artwork fitting the theme ODDITIES\, as interpreted by you. \nTerms & Conditions: \n\nIf an item is for sale\, 60% of the sale price goes to the artist\nArtist is responsible for dropping off their piece on or before 6pm\, Friday May 20th\, 2022\nAll pieces sold will remain on display until Monday July 4th\, 2022\nUnsold work must be picked up by 6pm\, Monday July 11th\, 2022\nWe will do our best to accommodate everyone\, but Minotaur reserves the right to refuse any piece\nIf your piece is especially delicate or has special storage needs\, please call before dropping off your piece.\nWhile we will handle your work with the utmost care\, Minotaur cannot be held responsible for any stolen or damaged work.\n\nSubmission Deadline: \nFriday May 20th\, 6pm \nOpening Reception\, a part of Downtown Kingston’s Art After Dark! \nFriday May 27th 7-10pm \nReady to submit? \nSubmissions are now closed. See you in the fall! \nQuestions?\n\n613.545.2308\ninfo@minotaurgifts.com\n@minotaurgamesandgifts\nfacebook.com/minotaurgamesandgifts
URL:https://minotaurgifts.com/event/oddities-group-art-show/
LOCATION:Minotaur Games & Gifts\, 78 Princess St.\, Kingston\, Ontario\, K7L1A5\, Canada
ORGANIZER;CN="Minotaur Games & Gifts":MAILTO:info@minotaurgifts.com
END:VEVENT
BEGIN:VEVENT
DTSTART;TZID=America/Halifax:20210924T190000
DTEND;TZID=America/Halifax:20211008T180000
DTSTAMP:20260423T190957
CREATED:20210901T145119Z
LAST-MODIFIED:20210901T201024Z
UID:224-1632510000-1633716000@minotaurgifts.com
SUMMARY:UNDERNEATH Group Art Show
DESCRIPTION:Call for Submissions\nWhat’s Accepted: \nAny original artwork fitting the theme UNDERNEATH\, as interpreted by you. \nTerms & Conditions: \n\nIf an item is for sale\, commission fee is 40% of the artist’s sale price\nPieces sold during the show remain on site until October 8th\, 2021\nUnsold pieces must be picked up by October 15th\, 2021\nWe will to our best to accommodate everyone\, but Minotaur reserves the right to refuse any piece\nIf your piece requires special storage considerations\, please call before dropping off your piece.\nWhile we will handle your work with the utmost care\, Minotaur cannot be held responsible for any stolen or damaged work.\n\nSubmission Deadline: \nFriday September 17th\, 6pm \nReady to submit? \nFill out this form less than 24 HOURS BEFORE dropping off your piece\, or fill out a paper copy in store when you arrive! \nQuestions?\n\n613.545.2308\ninfo@minotaurgifts.com\n@minotaurgamesandgifts
URL:https://minotaurgifts.com/event/underneath/
LOCATION:Minotaur Games & Gifts\, 78 Princess St.\, Kingston\, Ontario\, K7L1A5\, Canada
ORGANIZER;CN="Minotaur Games & Gifts":MAILTO:info@minotaurgifts.com
END:VEVENT
BEGIN:VEVENT
DTSTART;TZID=America/Halifax:20210922T173000
DTEND;TZID=America/Halifax:20210922T203000
DTSTAMP:20260423T190957
CREATED:20210907T183908Z
LAST-MODIFIED:20210907T183908Z
UID:240-1632331800-1632342600@minotaurgifts.com
SUMMARY:Kingston PRIDE Board Game Night
DESCRIPTION:Join Kingston Pride for an evening of fun games for all ages.\nLocation: BSE Skate Shop back patio\nTime: 5:30 to 8:30pm\nWho: All Ages!\nBoard games have been provided by Minotaur Kingston\, so bring your friends\, have a coffee\, and get into the games!\nSign-up in advance required for COVID-19 screening purposes at www.kingstonpride.ca\n***Please note that all attendees of Kingston Pride 2021 events are required to show proof of fully vaccinated status prior to entry to any events.
URL:https://minotaurgifts.com/event/kingston-pride-board-game-night/
LOCATION:BSE Skate Shop\, 225 Princess St\, Kingston\, Ontario\, K7L 1B3\, Canada
ORGANIZER;CN="Kingston PRIDE":MAILTO:admin@kingstonpride.ca
END:VEVENT
BEGIN:VEVENT
DTSTART;TZID=America/Halifax:20210712T080000
DTEND;TZID=America/Halifax:20210712T170000
DTSTAMP:20260423T190957
CREATED:20210712T182205Z
LAST-MODIFIED:20210712T182205Z
UID:108-1626076800-1626109200@minotaurgifts.com
SUMMARY:Hello World event!
DESCRIPTION:Whooo!
URL:https://minotaurgifts.com/event/hello-world-event/
LOCATION:Ontario
END:VEVENT
END:VCALENDAR